BEGIN:VCALENDAR
VERSION:2.0
PRODID:-//CLTCPS - ECPv6.10.2//NONSGML v1.0//EN
CALSCALE:GREGORIAN
METHOD:PUBLISH
X-ORIGINAL-URL:https://cpsandrespite.ca
X-WR-CALDESC:Events for CLTCPS
REFRESH-INTERVAL;VALUE=DURATION:PT1H
X-Robots-Tag:noindex
X-PUBLISHED-TTL:PT1H
BEGIN:VTIMEZONE
TZID:UTC
BEGIN:STANDARD
TZOFFSETFROM:+0000
TZOFFSETTO:+0000
TZNAME:UTC
DTSTART:20240101T000000
END:STANDARD
END:VTIMEZONE
BEGIN:VEVENT
DTSTART;TZID=UTC:20240626T133000
DTEND;TZID=UTC:20240626T160000
DTSTAMP:20260420T112455
CREATED:20240607T133427Z
LAST-MODIFIED:20240607T133427Z
UID:10000088-1719408600-1719417600@cpsandrespite.ca
SUMMARY:Exploring Riverdale Farms
DESCRIPTION:Enjoy a day of walking around beautiful trails\, and visiting the various farm animals.
URL:https://cpsandrespite.ca/event/exploring-riverdale-farms/
LOCATION:Riverdale Farm\, 201 Winchester St\, Toronto\, Ontario\, M4X 1B8\, Canada
CATEGORIES:Social Programs
ATTACH;FMTTYPE=image/jpeg:https://cpsandrespite.ca/wp-content/uploads/2024/06/GettyImages-586336786-5c40c334c9e77c00012ff091.jpg
END:VEVENT
BEGIN:VEVENT
DTSTART;TZID=UTC:20240623T193000
DTEND;TZID=UTC:20240623T210000
DTSTAMP:20260420T112455
CREATED:20240607T132624Z
LAST-MODIFIED:20240607T132624Z
UID:10000084-1719171000-1719176400@cpsandrespite.ca
SUMMARY:Toronto Maple Leafs Baseball Club
DESCRIPTION:Cheer on the Toronto Maple Leafs Baseball club with fellow baseball fans!
URL:https://cpsandrespite.ca/event/toronto-maple-leafs-baseball-club/
LOCATION:Christie Pits\, 750 Bloor St W\, Toronto\, Ontario\, M6G 3K4\, Canada
CATEGORIES:Social Programs
ATTACH;FMTTYPE=image/webp:https://cpsandrespite.ca/wp-content/uploads/2024/04/32a1-2012717-cp-baseball.webp
END:VEVENT
BEGIN:VEVENT
DTSTART;TZID=UTC:20240619T173000
DTEND;TZID=UTC:20240619T193000
DTSTAMP:20260420T112455
CREATED:20240607T131927Z
LAST-MODIFIED:20240607T131927Z
UID:10000082-1718818200-1718825400@cpsandrespite.ca
SUMMARY:Dinner Party
DESCRIPTION:In classic dinner party style\, we will have a meal around the table. There will be\nconversations starters to help with discussion\, and a great meal to share.
URL:https://cpsandrespite.ca/event/dinner-party/
LOCATION:Community Junction\, 2934 Dundas Street West\, Toronto\, Ontario\, M6P 1Y8\, Canada
CATEGORIES:Social Programs
ATTACH;FMTTYPE=image/jpeg:https://cpsandrespite.ca/wp-content/uploads/2024/05/IMG_0751-scaled.jpg
END:VEVENT
BEGIN:VEVENT
DTSTART;TZID=UTC:20240531T190000
DTEND;TZID=UTC:20240531T213000
DTSTAMP:20260420T112455
CREATED:20240508T145910Z
LAST-MODIFIED:20240508T150053Z
UID:10000013-1717182000-1717191000@cpsandrespite.ca
SUMMARY:The Mix - Community Idol
DESCRIPTION:The Mix – Community Idol \nJoin us for a great night of singing & dancing to your favourite music at 50 Fairfax Cres on Friday\, May 31st\, 2024\, from 7:00 PM to 9:30 PM. \nDance Party!!! \nAdmission: $7.00 (cash at door or register in advance here: covers entrance to event and refreshments) \nGet ready to have a great time with friends old & new! Don’t miss this great time! See you there!
URL:https://cpsandrespite.ca/event/the-mix-community-idol/
LOCATION:Fairfax\, 50 Fairfax Crescent\, Scarborough\, Ontario\, M1L 1Z8\, Canada
CATEGORIES:Social Programs
ATTACH;FMTTYPE=image/jpeg:https://cpsandrespite.ca/wp-content/uploads/2023/11/IMG_0648-scaled.jpg
END:VEVENT
BEGIN:VEVENT
DTSTART;TZID=UTC:20240522T193000
DTEND;TZID=UTC:20240522T213000
DTSTAMP:20260420T112455
CREATED:20240419T170343Z
LAST-MODIFIED:20240508T135748Z
UID:10000007-1716406200-1716413400@cpsandrespite.ca
SUMMARY:Baseball Game at Christie Pits
DESCRIPTION:Get ready to play ball with the Toronto Maple Leafs from the Intercounty Baseball League! \nJoin us for an exciting game as the Toronto Maple Leafs go head-to-head against the Kitchener Panthers at Christie Pits! It’s the perfect opportunity to enjoy the thrill of live baseball\, and cheer on our home team in the heart of our community! \nWe’ll have plenty of snacks and refreshments to keep you energized throughout the game\, so gather your friends and family for a fun-filled outdoor event you won’t forget! \nDon’t miss out on this incredible experience—reserve your spot now and let’s show our support for the Toronto Maple Leafs!
URL:https://cpsandrespite.ca/event/baseball-game-at-christie-pitts/
LOCATION:Christie Pits\, 750 Bloor St W\, Toronto\, Ontario\, M6G 3K4\, Canada
CATEGORIES:Social Programs
ATTACH;FMTTYPE=image/webp:https://cpsandrespite.ca/wp-content/uploads/2024/04/32a1-2012717-cp-baseball.webp
END:VEVENT
BEGIN:VEVENT
DTSTART;TZID=UTC:20240513T180000
DTEND;TZID=UTC:20240513T210000
DTSTAMP:20260420T112455
CREATED:20240419T165307Z
LAST-MODIFIED:20240508T135840Z
UID:10000006-1715623200-1715634000@cpsandrespite.ca
SUMMARY:Blue Jays Viewing Party
DESCRIPTION:Calling all Toronto Blue Jays fans! Join us for a viewing party at The Junction! \nGet ready to cheer on our beloved Blue Jays as they face off against the Baltimore Orioles! Watch all the action live on the big screen tv while enjoying the company of fellow fans\, making new friends\, and soaking up the electric atmosphere! \nWe’ve got you covered with plenty of snacks and refreshments to keep you fueled throughout the game. So come on down\, kick back\, and let’s root for our team together! 🙌 \nDon’t miss out on the fun—tag your fellow Blue Jays fans and RSVP now!
URL:https://cpsandrespite.ca/event/blue-jays-viewing-party/
LOCATION:Community Junction\, 2934 Dundas Street West\, Toronto\, Ontario\, M6P 1Y8\, Canada
CATEGORIES:Social Programs
ATTACH;FMTTYPE=image/jpeg:https://cpsandrespite.ca/wp-content/uploads/2024/04/IMG_1538-scaled.jpg
END:VEVENT
END:VCALENDAR