BEGIN:VCALENDAR
VERSION:2.0
PRODID:-//CLTCPS - ECPv6.10.2//NONSGML v1.0//EN
CALSCALE:GREGORIAN
METHOD:PUBLISH
X-ORIGINAL-URL:https://cpsandrespite.ca
X-WR-CALDESC:Events for CLTCPS
REFRESH-INTERVAL;VALUE=DURATION:PT1H
X-Robots-Tag:noindex
X-PUBLISHED-TTL:PT1H
BEGIN:VTIMEZONE
TZID:UTC
BEGIN:STANDARD
TZOFFSETFROM:+0000
TZOFFSETTO:+0000
TZNAME:UTC
DTSTART:20240101T000000
END:STANDARD
END:VTIMEZONE
BEGIN:VEVENT
DTSTART;TZID=UTC:20250107T103000
DTEND;TZID=UTC:20250107T113000
DTSTAMP:20260420T100434
CREATED:20250107T204922Z
LAST-MODIFIED:20250107T204922Z
UID:10000275-1736245800-1736249400@cpsandrespite.ca
SUMMARY:Jamming Zumba
DESCRIPTION:Have fun learning how to put moves to music! With her passion for Latin cardio dance music\, Tammy incorporates not only learning new moves but putting you\, the student\, in the driver’s seat to create choreography to some of your favorite songs.
URL:https://cpsandrespite.ca/event/jamming-zumba/2025-01-07/
LOCATION:Community Junction\, 2934 Dundas Street West\, Toronto\, Ontario\, M6P 1Y8\, Canada
CATEGORIES:Goal Based Programs,Social Programs
ATTACH;FMTTYPE=image/jpeg:https://cpsandrespite.ca/wp-content/uploads/2024/08/Zumba-Pic-e1725039288714.jpg
END:VEVENT
BEGIN:VEVENT
DTSTART;TZID=UTC:20250106T153000
DTEND;TZID=UTC:20250106T163000
DTSTAMP:20260420T100434
CREATED:20250107T204404Z
LAST-MODIFIED:20250107T204404Z
UID:10000264-1736177400-1736181000@cpsandrespite.ca
SUMMARY:Music Jam Session
DESCRIPTION:The Music Jam is your chance to relax\, enjoy and express yourself in a social group setting. You are encouraged to express yourself through singing\, percussion and social dancing. We will be singing popular songs\, old favorites and standards.
URL:https://cpsandrespite.ca/event/music-jam-session/2025-01-06/
LOCATION:Community Junction\, 2934 Dundas Street West\, Toronto\, Ontario\, M6P 1Y8\, Canada
CATEGORIES:Goal Based Programs,Social Programs
ATTACH;FMTTYPE=image/jpeg:https://cpsandrespite.ca/wp-content/uploads/2024/08/ckia8-music-lockdown-1fa0fb8b.jpg
END:VEVENT
BEGIN:VEVENT
DTSTART;TZID=UTC:20250106T133000
DTEND;TZID=UTC:20250106T153000
DTSTAMP:20260420T100434
CREATED:20250107T203907Z
LAST-MODIFIED:20250107T204649Z
UID:10000253-1736170200-1736177400@cpsandrespite.ca
SUMMARY:Artful Adventures  (Part 1)
DESCRIPTION:Embark on a journey of creativity with our “Artful Adventures” class! \nUnleash your imagination as you explore a variety of artistic mediums\, from painting\, printmaking and collage!
URL:https://cpsandrespite.ca/event/artful-adventures-part-1/2025-01-06/
LOCATION:Community Junction\, 2934 Dundas Street West\, Toronto\, Ontario\, M6P 1Y8\, Canada
CATEGORIES:Goal Based Programs,Social Programs
ATTACH;FMTTYPE=image/jpeg:https://cpsandrespite.ca/wp-content/uploads/2024/08/61z3G33oxTL.jpg
END:VEVENT
BEGIN:VEVENT
DTSTART;TZID=UTC:20250106T100000
DTEND;TZID=UTC:20250106T130000
DTSTAMP:20260420T100434
CREATED:20250107T202904Z
LAST-MODIFIED:20250107T203018Z
UID:10000190-1736157600-1736168400@cpsandrespite.ca
SUMMARY:Rustic Winter Lunches
DESCRIPTION:Join us each week to practice your cooking skills ! Our classes cover everything from salads to grilling\, desserts\, and more. Learn essential skills while enjoying hands-on experiences. Join us for a fun and delicious time!
URL:https://cpsandrespite.ca/event/rustic-winter-lunches/2025-01-06/
LOCATION:Community Junction\, 2934 Dundas Street West\, Toronto\, Ontario\, M6P 1Y8\, Canada
CATEGORIES:Goal Based Programs,Social Programs
ATTACH;FMTTYPE=image/jpeg:https://cpsandrespite.ca/wp-content/uploads/2024/08/KyleCampbell.jpeg
END:VEVENT
BEGIN:VEVENT
DTSTART;TZID=UTC:20241114T190000
DTEND;TZID=UTC:20241114T210000
DTSTAMP:20260420T100434
CREATED:20240917T160502Z
LAST-MODIFIED:20240917T160502Z
UID:10000175-1731610800-1731618000@cpsandrespite.ca
SUMMARY:Games Night
DESCRIPTION:We have got a large selection of games to choose from\, there’s something for everyone. It’s the perfect chance to reconnect with old friends and make new ones. Come for the games\, stay for the laughter and great company.
URL:https://cpsandrespite.ca/event/games-night-2/
LOCATION:Foster Connections\, 164 Main Street\, Toronto\, Ontario\, M4e 2V8\, Canada
CATEGORIES:Social Programs
ATTACH;FMTTYPE=image/jpeg:https://cpsandrespite.ca/wp-content/uploads/2024/05/IMG_6857-scaled.jpg
END:VEVENT
BEGIN:VEVENT
DTSTART;TZID=UTC:20241017T190000
DTEND;TZID=UTC:20241017T210000
DTSTAMP:20260420T100434
CREATED:20240917T160335Z
LAST-MODIFIED:20240917T160335Z
UID:10000174-1729191600-1729198800@cpsandrespite.ca
SUMMARY:Games Night
DESCRIPTION:We have got a large selection of games to choose from\, there’s something for everyone. It’s the perfect chance to reconnect with old friends and make new ones. Come for the games\, stay for the laughter and great company.
URL:https://cpsandrespite.ca/event/games-night/
LOCATION:Ontario
CATEGORIES:Social Programs
ATTACH;FMTTYPE=image/jpeg:https://cpsandrespite.ca/wp-content/uploads/2024/05/IMG_6857-scaled.jpg
END:VEVENT
BEGIN:VEVENT
DTSTART;VALUE=DATE:20241007
DTEND;VALUE=DATE:20241008
DTSTAMP:20260420T100434
CREATED:20240917T163128Z
LAST-MODIFIED:20240917T163128Z
UID:10000183-1728259200-1728345599@cpsandrespite.ca
SUMMARY:First Day of Program for Fall & Winter Sessions
DESCRIPTION:🍂🎉 Kicking off our Fall & Winter Sessions at Community Participation TODAY! ❄️ We can’t wait to see everyone back for new adventures and great experiences! Let’s make this season the best one yet! 🙌
URL:https://cpsandrespite.ca/event/first-day-of-program-for-fall-winter-sessions/
LOCATION:Ontario
CATEGORIES:Social Programs
ATTACH;FMTTYPE=image/png:https://cpsandrespite.ca/wp-content/uploads/2024/08/Fall-Winter-CPS-Experience-Guide-October-December-January-March-1_Page_01.png
END:VEVENT
BEGIN:VEVENT
DTSTART;TZID=UTC:20240821T173000
DTEND;TZID=UTC:20240821T193000
DTSTAMP:20260420T100434
CREATED:20240607T132101Z
LAST-MODIFIED:20240607T132101Z
UID:10000083-1724261400-1724268600@cpsandrespite.ca
SUMMARY:Dinner Party
DESCRIPTION:In classic dinner party style\, we will have a meal around the table. There will be\nconversations starters to help with discussion\, and a great meal to share.
URL:https://cpsandrespite.ca/event/dinner-party-2/
LOCATION:Community Junction\, 2934 Dundas Street West\, Toronto\, Ontario\, M6P 1Y8\, Canada
CATEGORIES:Social Programs
ATTACH;FMTTYPE=image/jpeg:https://cpsandrespite.ca/wp-content/uploads/2024/05/IMG_0751-scaled.jpg
END:VEVENT
BEGIN:VEVENT
DTSTART;TZID=UTC:20240807T193000
DTEND;TZID=UTC:20240807T210000
DTSTAMP:20260420T100434
CREATED:20240607T133004Z
LAST-MODIFIED:20240607T133004Z
UID:10000087-1723059000-1723064400@cpsandrespite.ca
SUMMARY:Toronto Maple Leafs Baseball Club
DESCRIPTION:Cheer on the Toronto Maple Leafs Baseball club with fellow baseball fans!
URL:https://cpsandrespite.ca/event/toronto-maple-leafs-baseball-club-4/
LOCATION:Christie Pits\, 750 Bloor St W\, Toronto\, Ontario\, M6G 3K4\, Canada
CATEGORIES:Social Programs
ATTACH;FMTTYPE=image/webp:https://cpsandrespite.ca/wp-content/uploads/2024/04/32a1-2012717-cp-baseball.webp
END:VEVENT
BEGIN:VEVENT
DTSTART;TZID=UTC:20240731T193000
DTEND;TZID=UTC:20240731T210000
DTSTAMP:20260420T100434
CREATED:20240607T132832Z
LAST-MODIFIED:20240607T132832Z
UID:10000086-1722454200-1722459600@cpsandrespite.ca
SUMMARY:Toronto Maple Leafs Baseball Club
DESCRIPTION:Cheer on the Toronto Maple Leafs Baseball club with fellow baseball fans!
URL:https://cpsandrespite.ca/event/toronto-maple-leafs-baseball-club-3/
LOCATION:Christie Pits\, 750 Bloor St W\, Toronto\, Ontario\, M6G 3K4\, Canada
CATEGORIES:Social Programs
ATTACH;FMTTYPE=image/webp:https://cpsandrespite.ca/wp-content/uploads/2024/04/32a1-2012717-cp-baseball.webp
END:VEVENT
BEGIN:VEVENT
DTSTART;TZID=UTC:20240718T180000
DTEND;TZID=UTC:20240718T210000
DTSTAMP:20260420T100434
CREATED:20240607T134215Z
LAST-MODIFIED:20240607T134215Z
UID:10000089-1721325600-1721336400@cpsandrespite.ca
SUMMARY:TD Weekend Music Lineup: 90s Night
DESCRIPTION:The TD Weekend Music Festival is a great end of summer activity\, with food trucks\,\nmusic\, and more!
URL:https://cpsandrespite.ca/event/td-weekend-music-lineup-90s-night/
LOCATION:Woodbine Park\, 1675 Lake Shore Blvd E\, Toronto\, Ontario\, M4L 3W6\, Canada
CATEGORIES:Social Programs
ATTACH;FMTTYPE=image/jpeg:https://cpsandrespite.ca/wp-content/uploads/2024/06/2773044878_6a27f5d4ac_b.jpg
END:VEVENT
BEGIN:VEVENT
DTSTART;TZID=UTC:20240703T193000
DTEND;TZID=UTC:20240703T210000
DTSTAMP:20260420T100434
CREATED:20240607T132736Z
LAST-MODIFIED:20240607T132736Z
UID:10000085-1720035000-1720040400@cpsandrespite.ca
SUMMARY:Toronto Maple Leafs Baseball Club
DESCRIPTION:Cheer on the Toronto Maple Leafs Baseball club with fellow baseball fans!
URL:https://cpsandrespite.ca/event/toronto-maple-leafs-baseball-club-2/
LOCATION:Christie Pits\, 750 Bloor St W\, Toronto\, Ontario\, M6G 3K4\, Canada
CATEGORIES:Social Programs
ATTACH;FMTTYPE=image/webp:https://cpsandrespite.ca/wp-content/uploads/2024/04/32a1-2012717-cp-baseball.webp
END:VEVENT
BEGIN:VEVENT
DTSTART;TZID=UTC:20240626T133000
DTEND;TZID=UTC:20240626T160000
DTSTAMP:20260420T100434
CREATED:20240607T133427Z
LAST-MODIFIED:20240607T133427Z
UID:10000088-1719408600-1719417600@cpsandrespite.ca
SUMMARY:Exploring Riverdale Farms
DESCRIPTION:Enjoy a day of walking around beautiful trails\, and visiting the various farm animals.
URL:https://cpsandrespite.ca/event/exploring-riverdale-farms/
LOCATION:Riverdale Farm\, 201 Winchester St\, Toronto\, Ontario\, M4X 1B8\, Canada
CATEGORIES:Social Programs
ATTACH;FMTTYPE=image/jpeg:https://cpsandrespite.ca/wp-content/uploads/2024/06/GettyImages-586336786-5c40c334c9e77c00012ff091.jpg
END:VEVENT
BEGIN:VEVENT
DTSTART;TZID=UTC:20240623T193000
DTEND;TZID=UTC:20240623T210000
DTSTAMP:20260420T100434
CREATED:20240607T132624Z
LAST-MODIFIED:20240607T132624Z
UID:10000084-1719171000-1719176400@cpsandrespite.ca
SUMMARY:Toronto Maple Leafs Baseball Club
DESCRIPTION:Cheer on the Toronto Maple Leafs Baseball club with fellow baseball fans!
URL:https://cpsandrespite.ca/event/toronto-maple-leafs-baseball-club/
LOCATION:Christie Pits\, 750 Bloor St W\, Toronto\, Ontario\, M6G 3K4\, Canada
CATEGORIES:Social Programs
ATTACH;FMTTYPE=image/webp:https://cpsandrespite.ca/wp-content/uploads/2024/04/32a1-2012717-cp-baseball.webp
END:VEVENT
BEGIN:VEVENT
DTSTART;TZID=UTC:20240619T173000
DTEND;TZID=UTC:20240619T193000
DTSTAMP:20260420T100434
CREATED:20240607T131927Z
LAST-MODIFIED:20240607T131927Z
UID:10000082-1718818200-1718825400@cpsandrespite.ca
SUMMARY:Dinner Party
DESCRIPTION:In classic dinner party style\, we will have a meal around the table. There will be\nconversations starters to help with discussion\, and a great meal to share.
URL:https://cpsandrespite.ca/event/dinner-party/
LOCATION:Community Junction\, 2934 Dundas Street West\, Toronto\, Ontario\, M6P 1Y8\, Canada
CATEGORIES:Social Programs
ATTACH;FMTTYPE=image/jpeg:https://cpsandrespite.ca/wp-content/uploads/2024/05/IMG_0751-scaled.jpg
END:VEVENT
BEGIN:VEVENT
DTSTART;TZID=UTC:20240531T190000
DTEND;TZID=UTC:20240531T213000
DTSTAMP:20260420T100434
CREATED:20240508T145910Z
LAST-MODIFIED:20240508T150053Z
UID:10000013-1717182000-1717191000@cpsandrespite.ca
SUMMARY:The Mix - Community Idol
DESCRIPTION:The Mix – Community Idol \nJoin us for a great night of singing & dancing to your favourite music at 50 Fairfax Cres on Friday\, May 31st\, 2024\, from 7:00 PM to 9:30 PM. \nDance Party!!! \nAdmission: $7.00 (cash at door or register in advance here: covers entrance to event and refreshments) \nGet ready to have a great time with friends old & new! Don’t miss this great time! See you there!
URL:https://cpsandrespite.ca/event/the-mix-community-idol/
LOCATION:Fairfax\, 50 Fairfax Crescent\, Scarborough\, Ontario\, M1L 1Z8\, Canada
CATEGORIES:Social Programs
ATTACH;FMTTYPE=image/jpeg:https://cpsandrespite.ca/wp-content/uploads/2023/11/IMG_0648-scaled.jpg
END:VEVENT
BEGIN:VEVENT
DTSTART;TZID=UTC:20240522T193000
DTEND;TZID=UTC:20240522T213000
DTSTAMP:20260420T100434
CREATED:20240419T170343Z
LAST-MODIFIED:20240508T135748Z
UID:10000007-1716406200-1716413400@cpsandrespite.ca
SUMMARY:Baseball Game at Christie Pits
DESCRIPTION:Get ready to play ball with the Toronto Maple Leafs from the Intercounty Baseball League! \nJoin us for an exciting game as the Toronto Maple Leafs go head-to-head against the Kitchener Panthers at Christie Pits! It’s the perfect opportunity to enjoy the thrill of live baseball\, and cheer on our home team in the heart of our community! \nWe’ll have plenty of snacks and refreshments to keep you energized throughout the game\, so gather your friends and family for a fun-filled outdoor event you won’t forget! \nDon’t miss out on this incredible experience—reserve your spot now and let’s show our support for the Toronto Maple Leafs!
URL:https://cpsandrespite.ca/event/baseball-game-at-christie-pitts/
LOCATION:Christie Pits\, 750 Bloor St W\, Toronto\, Ontario\, M6G 3K4\, Canada
CATEGORIES:Social Programs
ATTACH;FMTTYPE=image/webp:https://cpsandrespite.ca/wp-content/uploads/2024/04/32a1-2012717-cp-baseball.webp
END:VEVENT
BEGIN:VEVENT
DTSTART;TZID=UTC:20240513T180000
DTEND;TZID=UTC:20240513T210000
DTSTAMP:20260420T100434
CREATED:20240419T165307Z
LAST-MODIFIED:20240508T135840Z
UID:10000006-1715623200-1715634000@cpsandrespite.ca
SUMMARY:Blue Jays Viewing Party
DESCRIPTION:Calling all Toronto Blue Jays fans! Join us for a viewing party at The Junction! \nGet ready to cheer on our beloved Blue Jays as they face off against the Baltimore Orioles! Watch all the action live on the big screen tv while enjoying the company of fellow fans\, making new friends\, and soaking up the electric atmosphere! \nWe’ve got you covered with plenty of snacks and refreshments to keep you fueled throughout the game. So come on down\, kick back\, and let’s root for our team together! 🙌 \nDon’t miss out on the fun—tag your fellow Blue Jays fans and RSVP now!
URL:https://cpsandrespite.ca/event/blue-jays-viewing-party/
LOCATION:Community Junction\, 2934 Dundas Street West\, Toronto\, Ontario\, M6P 1Y8\, Canada
CATEGORIES:Social Programs
ATTACH;FMTTYPE=image/jpeg:https://cpsandrespite.ca/wp-content/uploads/2024/04/IMG_1538-scaled.jpg
END:VEVENT
END:VCALENDAR